BEGIN:VCALENDAR
VERSION:2.0
PRODID:-//hacksw/handcal//NONSGML v1.0//EN
CALSCALE:GREGORIAN
BEGIN:VEVENT
DTEND:20180901T000000Z
UID: 69e8c8b5da8b4
DTSTAMP:20260422T081013Z
LOCATION:Thorson-Lucken Field
DESCRIPTION:The Augustana women's soccer team will play against Hanover College in the first home game of the season.\n\nThe game will be live-streamed.\n
URL;VALUE=URI:https://www.augustana.edu/about-us/events/2018/womens-soccer-vs-hanover
SUMMARY:Women's soccer vs. Hanover
DTSTART:20180901T000000Z
END:VEVENT
END:VCALENDAR
