BEGIN:VCALENDAR
VERSION:2.0
PRODID:-//hacksw/handcal//NONSGML v1.0//EN
CALSCALE:GREGORIAN
BEGIN:VEVENT
DTEND:20180901T170000Z
UID: 69e8c90dc3b52
DTSTAMP:20260422T081141Z
LOCATION:Highland Springs Golf Course
DESCRIPTION:The Augustana women's golf team will host the annual two-day Highland Classic at Highland Springs Golf Course.\n
URL;VALUE=URI:https://www.augustana.edu/about-us/events/2018/womens-golf-highland-classic
SUMMARY:Women's Golf Highland Classic
DTSTART:20180901T170000Z
END:VEVENT
END:VCALENDAR
