BEGIN:VCALENDAR
VERSION:2.0
PRODID:-//hacksw/handcal//NONSGML v1.0//EN
CALSCALE:GREGORIAN
BEGIN:VEVENT
DTEND:20181028T191500Z
UID: 69e568f0b0ef0
DTSTAMP:20260419T184448Z
LOCATION:Vibrant Arena at the Mark
DESCRIPTION:Augustana men's and women's basketball teams will play St. Ambrose University in the Genesis Collegiate Challenge exhibition.\n\nThe women’s game will tip-off at 2:15 p.m. The men’s game will follow at approximately 5 p.m.\n\nAdmission will be free. There will be discounted concessions.\n\nAugustana's&nbsp\;Tribe of Vikings&nbsp\;will host a reception on the concourse with a great view of court. The reception will be open during halftime of the women's game through the end of the men's game.\n\nThe family-friendly reception will be available to both Vikings and Bees' fans. Wear your Augie gear to get a token for a free drink. Light snacks and a cash bar will be available.\n
URL;VALUE=URI:https://www.augustana.edu/about-us/events/2018/basketball-augustana-st-ambrose-collegiate-challenge
SUMMARY:Basketball: Augustana\, St. Ambrose Collegiate Challenge 
DTSTART:20181028T191500Z
END:VEVENT
END:VCALENDAR
