BEGIN:VCALENDAR
VERSION:2.0
PRODID:-//hacksw/handcal//NONSGML v1.0//EN
CALSCALE:GREGORIAN
BEGIN:VEVENT
DTEND:20181110T190000Z
UID: 69e8c94a31ee1
DTSTAMP:20260422T081242Z
LOCATION:Quad
DESCRIPTION:The Augustana Vikings will take on Carthage College in their Senior Day game. This game is the last game of the season.\n\nThe game will be live-streamed.\n\n&nbsp\;Augustana is 4-5 on the season and 3-5 in the CCIW.&nbsp\;\n
URL;VALUE=URI:https://www.augustana.edu/about-us/events/2018/football-vs-carthage
SUMMARY:Football vs. Carthage 
DTSTART:20181110T190000Z
END:VEVENT
END:VCALENDAR
