BEGIN:VCALENDAR
VERSION:2.0
PRODID:-//hacksw/handcal//NONSGML v1.0//EN
CALSCALE:GREGORIAN
BEGIN:VEVENT
DTEND:20181006T180000Z
UID: 69e8c8904f3b8
DTSTAMP:20260422T080936Z
LOCATION:Quad
DESCRIPTION:The Augustana Vikings will take on the North Central Cardinals at home. The game takes place on Augustana's Homecoming Weekend.\n\nOther home games:\nOct. 20&nbsp\;vs. Wheaton\nOct. 27&nbsp\;vs. Washington University\nNov. 10&nbsp\;vs. Carthage\n
URL;VALUE=URI:https://www.augustana.edu/about-us/events/2018/football-vs-north-central
SUMMARY:Football vs. North Central
DTSTART:20181006T180000Z
END:VEVENT
END:VCALENDAR
