BEGIN:VCALENDAR
VERSION:2.0
PRODID:-//hacksw/handcal//NONSGML v1.0//EN
CALSCALE:GREGORIAN
BEGIN:VEVENT
DTEND:20221120T200000Z
UID: 69ed0e2082e58
DTSTAMP:20260425T135528Z
LOCATION:Centennial Hall
DESCRIPTION:The Augustana Symphony Orchestra will host the annual Student Concerto Competition. Performances are welcomed from any current Augustana student.&nbsp\;\n\nUp to three winners will be selected by a panel of outside judges and the winners will be invited to perform with the orchestra on the Winter Concert in February.&nbsp\;\n
URL;VALUE=URI:https://www.augustana.edu/about-us/events/2022/orchestra-student-concerto-competition
SUMMARY:Augustana Symphony Orchestra Concerto Competition
DTSTART:20221120T200000Z
END:VEVENT
END:VCALENDAR
