BEGIN:VCALENDAR
VERSION:2.0
PRODID:-//hacksw/handcal//NONSGML v1.0//EN
CALSCALE:GREGORIAN
BEGIN:VEVENT
DTEND:20180615T210000Z
UID: 69e4e98aab83b
DTSTAMP:20260419T094114Z
LOCATION:Busch Stadium
DESCRIPTION:Join other alumni and friends for an evening of food and baseball in St. Louis!\n\nThe fun starts at 4&nbsp\;p.m. for a pre-game reception at BB's Blues\, Jazz &amp\; Soups.\n\nThe Chicago Cubs vs. St. Louis Cardinals game begins at 7:15 p.m. The seats for this game are in section 265 from row 3-7\, seats 15-24.\n\nTickets are $82 each which includes your game ticket\, as well as food at BB's including pulled pork sliders\, chicken tenders\, bruschetta and a $5 gift to the Augustana Fund!\n\nYour game tickets will be mailed to your house.\n
URL;VALUE=URI:https://www.augustana.edu/about-us/events/2018/alumni-cubs-vs-cardinals
SUMMARY:Alumni Cubs vs. Cardinals
DTSTART:20180615T210000Z
END:VEVENT
END:VCALENDAR
