BEGIN:VCALENDAR
VERSION:2.0
PRODID:-//hacksw/handcal//NONSGML v1.0//EN
CALSCALE:GREGORIAN
BEGIN:VEVENT
DTEND:20180510T163000Z
UID: 69e8c58a85130
DTSTAMP:20260422T075642Z
LOCATION:Hanson Hall of Science
DESCRIPTION:Augustana will hold a groundbreaking ceremony for the $8.5 million\, four-story expansion of Hanson Hall of Science. This 22\,000-square-foot expansion will support cross-disciplinary teaching\, active learning and collaborative research in the sciences.\n\nIn case of rain\, the ceremony will be held in the atrium on the first floor of Hanson Hall.\n
URL;VALUE=URI:https://www.augustana.edu/about-us/events/2018/hanson-hall-expansion-groundbreaking
SUMMARY:Hanson Hall expansion groundbreaking 
DTSTART:20180510T163000Z
END:VEVENT
END:VCALENDAR
