BEGIN:VCALENDAR
VERSION:2.0
PRODID:-//hacksw/handcal//NONSGML v1.0//EN
CALSCALE:GREGORIAN
BEGIN:VEVENT
DTEND:20190519T164500Z
UID: 69e7412ae98e1
DTSTAMP:20260421T041938Z
LOCATION:Centennial Hall
DESCRIPTION:A closing reception for the Senior Art Exhibition will be held from&nbsp\;11:45 a.m.-1 p.m.&nbsp\;The exhibit features the Senior Inquiry projects of the Class of 2019 graphic design and studio art majors.\n
URL;VALUE=URI:https://www.augustana.edu/about-us/events/2019/senior-art-exhibition-closing-reception
SUMMARY:Senior Art Exhibition closing reception
DTSTART:20190519T164500Z
END:VEVENT
END:VCALENDAR
