BEGIN:VCALENDAR
VERSION:2.0
PRODID:-//hacksw/handcal//NONSGML v1.0//EN
CALSCALE:GREGORIAN
BEGIN:VEVENT
DTEND:20180427T000000Z
UID: 69e8cdbadc11e
DTSTAMP:20260422T083138Z
LOCATION:Denkmann Memorial Building
DESCRIPTION:Jim Leach\, who represented the Iowa Quad-Cities in the U.S. House of Representatives for 30 years\,&nbsp\;will give this year's Ellwood F. Curtis Family Lectureship in Public Affairs. His talk is entitled "What is Precedented and Unprecedented in American Politics."\n\nA native of Davenport\, Leach represented Iowa's 2nd Congressional District from 1977-2007. He was the&nbsp\;ninth chair of the National Endowment for the Humanities from 2009-2013.\n\nThe Curtis Lecture was established in memory of Ellwood F. Curtis\, who served as president and vice chairman of Deere and Company during his 42-year career with the Moline-based manufacturer. Curtis was active in the Quad City community and was co-chair of Augustana College's Agenda for Leadership Campaign.\n
URL;VALUE=URI:https://www.augustana.edu/about-us/events/2018/curtis-lecture-jim-leach-what-precedented-and-unprecedented-american-politics
SUMMARY:Curtis Lecture: Jim Leach\, 'What is Precedented and Unprecedented in American Politics'
DTSTART:20180427T000000Z
END:VEVENT
END:VCALENDAR
