BEGIN:VCALENDAR
VERSION:2.0
PRODID:-//hacksw/handcal//NONSGML v1.0//EN
CALSCALE:GREGORIAN
BEGIN:VEVENT
DTEND:20180309T233000Z
UID: 69e8ceefeb6da
DTSTAMP:20260422T083647Z
LOCATION:Carver P.E. Center
DESCRIPTION:Augustana will host the NCAA Division III men's basketball tournament sectional\, playing against John Carroll University at 7:30 p.m.&nbsp\;\n\nEmory University and the University of Wisconsin-Oshkosh will square off in the first game at 5:30 p.m.\n\nTickets will go on sale at 4 p.m. at Carver Center.\n\nFriday's winners will meet Saturday at 7&nbsp\;p.m. to advance to the final four championship. Saturday ticket sales will begin at 5:30 p.m.\n\n2018 NCAA Division III Tournament Bracket\n
URL;VALUE=URI:https://www.augustana.edu/about-us/events/2018/ncaa-mens-basketball-tournament
SUMMARY:NCAA men's basketball tournament 
DTSTART:20180309T233000Z
END:VEVENT
END:VCALENDAR
