BEGIN:VCALENDAR
VERSION:2.0
PRODID:-//hacksw/handcal//NONSGML v1.0//EN
CALSCALE:GREGORIAN
BEGIN:VEVENT
DTEND:20180223T230000Z
UID: 69e8cf1fd8a5b
DTSTAMP:20260422T083735Z
LOCATION:Carver P.E. Center
DESCRIPTION:Augustana will host the CCIW Men's Basketball Tournament at Carver Center.\n\nDoors open at 3:30 p.m. and the first game of the night\, North Central vs. Illinois Wesleyan\, starts at 5 p.m.\n\nAugustana will play Wheaton at 7 p.m.\n\nFans at home can view a&nbsp\;livestream of both games.\n\nThe two winners will play at 7 p.m. Saturday for a trip to the NCAA D3 Men's Basketball Tournament.\n
URL;VALUE=URI:https://www.augustana.edu/about-us/events/2018/cciw-mens-basketball-tournament
SUMMARY:CCIW Men's Basketball Tournament 
DTSTART:20180223T230000Z
END:VEVENT
END:VCALENDAR
