BEGIN:VCALENDAR
VERSION:2.0
PRODID:-//hacksw/handcal//NONSGML v1.0//EN
CALSCALE:GREGORIAN
BEGIN:VEVENT
DTEND:20180504T000000Z
UID: 69e8ce414937f
DTSTAMP:20260422T083353Z
LOCATION:Olin Center for Educational Technology
DESCRIPTION:"Rogue One"&nbsp\;computer graphics supervisor Vick Schutz will talk&nbsp\;about what it was like to be part of the ensemble crew at Industrial Light &amp\; Magic (ILM) working on the Star Wars film "Rogue One."\n\nPut your Star Wars&nbsp\;knowledge to the test as you discover the information they unearthed&nbsp\;about the previous films that was needed to recreate the familiar&nbsp\;feel of "A New Hope" within the style of the new film. Learn about the&nbsp\;visual effects in the film\, including the spectacular\, the subtle\, a few&nbsp\;Easter eggs\, and some of the hijinks that ensued along the way.\n\nSchutz currently is the lighting supervisor for the upcoming "Solo: A Star Wars Story."\n\n"For Rogue One: A Star Wars Story\," he was in&nbsp\;charge of the technology needed for the visual effects of the film and a member&nbsp\;of the Digital Human team. He also supervised the K-2SO vault sequence.&nbsp\;\n\nHe has worked on such films as "Star Wars: Episode II Attack of the&nbsp\;Clones\," "Harry Potter and the Chamber of Secrets\," and "Pirates of the Caribbean:&nbsp\;The Curse of the Black Pearl."&nbsp\;His two dozen film other credits also include "Ready Player One" and "Pacific Rim\," for which he was the computer graphics supervisor\; "Mission: Impossible - Ghost Protocol" (lead artist)\; and "Watchmen" (lighting lead).\n\nThis event is co-sponsored by the Lawrence H. Roys Endowment and the Institute for&nbsp\;Leadership and Service.\n
URL;VALUE=URI:https://www.augustana.edu/about-us/events/2018/visual-effects-artist-victor-schutz-new-take-old-galaxy-making-visual-effects
SUMMARY:Visual effects artist Victor Schutz: 'A New Take on an Old Galaxy: Making the Visual Effects of Rogue One'
DTSTART:20180504T000000Z
END:VEVENT
END:VCALENDAR
