BEGIN:VCALENDAR
VERSION:2.0
PRODID:-//hacksw/handcal//NONSGML v1.0//EN
CALSCALE:GREGORIAN
BEGIN:VEVENT
DTEND:20180203T213000Z
UID: 69e4e93866ca1
DTSTAMP:20260419T093952Z
LOCATION:Wilson Center
DESCRIPTION:Alpha Psi Omega invites students to a theatre panel. This will be an opportunity for people to ask questions about how graduates can be active in theatre\, whether it's as a full-time career or in addition to a different chosen career path.&nbsp\;\n
URL;VALUE=URI:https://www.augustana.edu/about-us/events/2018/theatre-alumni-panel
SUMMARY:Theatre Alumni Panel
DTSTART:20180203T213000Z
END:VEVENT
END:VCALENDAR
