BEGIN:VCALENDAR
VERSION:2.0
PRODID:-//hacksw/handcal//NONSGML v1.0//EN
CALSCALE:GREGORIAN
BEGIN:VEVENT
DTEND:20180120T190000Z
UID: 69e8d8cc129b6
DTSTAMP:20260422T091852Z
LOCATION:Carver P.E. Center
DESCRIPTION:Augustana's men's volleyball will play the Judson University Eagles of Elgin\, Ill.\, in their first home match in their inaugural season.\n\nThere will be free T-shirts to the first 150 fans and free popcorn.\n\n• Full schedule and more information\n
URL;VALUE=URI:https://www.augustana.edu/about-us/events/2018/mens-volleyball-vs-judson
SUMMARY:Men's Volleyball vs. Judson
DTSTART:20180120T190000Z
END:VEVENT
END:VCALENDAR
