BEGIN:VCALENDAR
VERSION:2.0
PRODID:-//hacksw/handcal//NONSGML v1.0//EN
CALSCALE:GREGORIAN
BEGIN:VEVENT
DTEND:20180113T210000Z
UID: 69e8db4021dd5
DTSTAMP:20260422T092920Z
LOCATION:The Gerber Center for Student Life
DESCRIPTION:Augustana College will celebrate its rich history of academic and athletic success by honoring all of its Academic All America award winners. The college also will welcome a group of potential award winners to campus.&nbsp\;\n\nThe day will be an opportunity to network with many of Augustana's Academic All-Americans and connect with the next generation of Augustana's best and brightest athletes.&nbsp\;\n\n• RSVP\n\nSchedule\n\n3 p.m. - Program for prospective student-athletes with panel of AAA Alumni at the Gerber Center\, Gävle Rooms.\n\n5 p.m. - Reception for AAA alumni in the Ken Anderson Academic All-America Club.\n\n5 p.m. - Augustana women's basketball home game against Carroll University.\n\n7 p.m. - Augustana men's Basketball home game against Carroll University\n\n7:45 p.m. - Recognition of all Academic All-American recipients at center court during half time of the men's basketball game.\n
URL;VALUE=URI:https://www.augustana.edu/about-us/events/2018/academic-all-america-reunion-and-recruitment-day
SUMMARY:Academic All-America Reunion and Recruitment Day
DTSTART:20180113T210000Z
END:VEVENT
END:VCALENDAR
