BEGIN:VCALENDAR
VERSION:2.0
PRODID:-//hacksw/handcal//NONSGML v1.0//EN
CALSCALE:GREGORIAN
BEGIN:VEVENT
DTEND:20180312T223000Z
UID: 69e8d893164e2
DTSTAMP:20260422T091755Z
LOCATION:Thorson-Lucken Field
DESCRIPTION:The women's lacrosse team will play St. Mary's College at home.\n\nSee the&nbsp\;season's schedule&nbsp\;here.\n
URL;VALUE=URI:https://www.augustana.edu/about-us/events/2017/womens-lacrosse-vs-st-marys
SUMMARY:Women's lacrosse vs. St. Mary's
DTSTART:20180312T223000Z
END:VEVENT
END:VCALENDAR
