BEGIN:VCALENDAR
VERSION:2.0
PRODID:-//hacksw/handcal//NONSGML v1.0//EN
CALSCALE:GREGORIAN
BEGIN:VEVENT
DTEND:20171210T010000Z
UID: 69e8dcb8b332a
DTSTAMP:20260422T093536Z
LOCATION:Denkmann Memorial Building
DESCRIPTION:Evan Sammons&nbsp\;20’ will play a recital of classical and contemporary saxophone works with accompanist Sheila Doak and the Augustana Saxophone Quartet featuring Dr. Randall Hall\, John Cummins\, and Lexie Aguilar.\n\nSammons is&nbsp\;a sophomore from Geneseo\, Ill.\,&nbsp\;majoring in music.\n\nProgram\n\nDesenclos\, Prelude\, Cadence et Finale\nCreston\, Sonata for Alto Saxophone and Piano\nChristian Lauba\, Jungle\nBach\, The Art of Fugue\, I\, III\nHomiski\, Firestorm for saxophone quartet\n\nThe event will be live-streamed on Facebook. Light refreshments to follow.\n
URL;VALUE=URI:https://www.augustana.edu/about-us/events/2017/student-recital-evan-sammons-saxophone
SUMMARY:Student recital: Evan Sammons\, saxophone
DTSTART:20171210T010000Z
END:VEVENT
END:VCALENDAR
