BEGIN:VCALENDAR
VERSION:2.0
PRODID:-//hacksw/handcal//NONSGML v1.0//EN
CALSCALE:GREGORIAN
BEGIN:VEVENT
DTEND:20171116T173000Z
UID: 69e8d898669ff
DTSTAMP:20260422T091800Z
LOCATION:Rock Island Public Library
DESCRIPTION:The Midwest Writing Center Brown Bag Discussion will feature Dr. Christopher Whitt from Augustana.\n\nHe is associate professor and the chair of political science\, and director of the Center for Inclusive Leadership and Equity at the college.\n\nBrown Bag Discussions are hour-long sessions featuring people from the artistic\, cultural\, historical\, educational and media sectors of the community to present a range of topics that audiences can both enjoy and engage in\, via question and answer sessions that will follow each presentation.\n\nBrown Bag Discussions are held in the MWC offices on the ground floor of the Rock Island Public Library. Bring your lunch!\n
URL;VALUE=URI:https://www.augustana.edu/about-us/events/2017/brown-bag-lunch-discussion-dr-christopher-whitt
SUMMARY: Brown Bag Lunch Discussion with Dr. Christopher Whitt
DTSTART:20171116T173000Z
END:VEVENT
END:VCALENDAR
