BEGIN:VCALENDAR
VERSION:2.0
PRODID:-//hacksw/handcal//NONSGML v1.0//EN
CALSCALE:GREGORIAN
BEGIN:VEVENT
DTEND:20171208T013000Z
UID: 69e8d8cc5245d
DTSTAMP:20260422T091852Z
LOCATION:Carver P.E. Center
DESCRIPTION:The Augustana men's wrestling team will take on the Loras College Duhawks. This will be the Vikings'&nbsp\;first home meet of the season.\n\nFans can watch watch the meet online.\n
URL;VALUE=URI:https://www.augustana.edu/about-us/events/2017/mens-wrestling-vs-loras-college
SUMMARY:Men's Wrestling vs. Loras College
DTSTART:20171208T013000Z
END:VEVENT
END:VCALENDAR
