BEGIN:VCALENDAR
VERSION:2.0
PRODID:-//hacksw/handcal//NONSGML v1.0//EN
CALSCALE:GREGORIAN
BEGIN:VEVENT
DTEND:20171116T000000Z
UID: 69e8dcd1aefb5
DTSTAMP:20260422T093601Z
LOCATION:Wilson Center
DESCRIPTION:Dr. Rafael Medina\, Augustana assistant professor of biology\, will talk about the college's&nbsp\;herbarium at the annual dinner of the&nbsp\;Augustana Historical Society.\n\nDr. Medina joined the faculty in 2016 and quickly realized that the college’s botanical specimen collection\, or herbarium\, is as interesting historically as it is scientifically. For the annual AHS fall program\, Dr. Medina will host a visit to the Augustana Herbarium and provide insight into its history\, which dates back to the 1800s.\n\nDinner will be served at 6&nbsp\;p.m. in the Wilson Center\, and after dinner\, Dr. Medina will escort guests to and through the Augustana Herbarium in Hanson Hall. Cost for the dinner and program is $30 per person\, with a $5 discount for AHS members.&nbsp\;\n&nbsp\;\nThree options are available for dinner:\n\nSalmon Seattle: King salmon stuffed with lump crab meat topped with Béarnaise sauce and sliced toasted almonds\, served with leek and tomato quinoa\, with seasonal vegetable.\n\nGarlic Roasted Pork Loin with Raspberry Chipotle Glaze: Roasted pork loin with hints of garlic\, topped with a glaze of raspberries and chipotle chilies\, served with wild rice pilaf and seasonal vegetable.\n\nGrilled Polenta with Wild Mushroom Sauce: Polenta grilled and topped with wild mushrooms in a white wine cream sauce\, topped with chopped herbs and parsley.\n\nAll dinners are served with a house salad\, roll and butter\, iced tea and coffee. Gourmet dessert bars to top things off.\n&nbsp\;\nReservations are due Nov. 10. RSVP to Kai Swanson&nbsp\;with your food choices. Checks payable to the Augustana Historical Society will be accepted in advance or at the door.\n\n&nbsp\;\n
URL;VALUE=URI:https://www.augustana.edu/about-us/events/2017/augustana-historical-society-dr-rafael-medina-and-herbarium
SUMMARY:Augustana Historical Society: Dr. Rafael Medina and the herbarium
DTSTART:20171116T000000Z
END:VEVENT
END:VCALENDAR
