BEGIN:VCALENDAR
VERSION:2.0
PRODID:-//hacksw/handcal//NONSGML v1.0//EN
CALSCALE:GREGORIAN
BEGIN:VEVENT
DTEND:20171020T003000Z
UID: 69e8dc6b0e237
DTSTAMP:20260422T093419Z
LOCATION:Denkmann Memorial Building
DESCRIPTION:Corey Trahan&nbsp\;will perform a guest recital with&nbsp\;Augustana's Shelly Cooper.\n\nTrahan is a performer\, educator and stage director in opera\, oratorio\, music theatre\, operetta and recital venues. He has a doctor of musical arts from the University of North Texas\, a master of music from the University of Houston and a bachelor of music from Louisiana State University.&nbsp\;\n\nCooper is an assistant professor of theatre arts. She is a vocal coach\, stage director\, choreographer and actor specializing in musical theatre.&nbsp\;\n\nProgram\n\nTrio\, Op. 11 (1798)&nbsp\; &nbsp\; Ludwig van Beethoven&nbsp\;(1770-1827)\nAllegro con brio\nAdagio\nTheme and Variations on Pria ch’io l’impegno\n\nPause\n\nTrio\, Op. 3 (1897)&nbsp\; &nbsp\;&nbsp\;Alexander Zemlinsky&nbsp\;(1871-1942)\nAllegro ma non troppo Andante\nAllegro\n
URL;VALUE=URI:https://www.augustana.edu/about-us/events/2017/guest-recital-corey-trahan-and-shelly-cooper
SUMMARY:Guest recital: Corey Trahan and Shelly Cooper
DTSTART:20171020T003000Z
END:VEVENT
END:VCALENDAR
