BEGIN:VCALENDAR
VERSION:2.0
PRODID:-//hacksw/handcal//NONSGML v1.0//EN
CALSCALE:GREGORIAN
BEGIN:VEVENT
DTEND:20180208T010000Z
UID: 69e8e252081fe
DTSTAMP:20260422T095930Z
LOCATION:Carver P.E. Center
DESCRIPTION:The&nbsp\;Augustana Vikings&nbsp\;will take on Elmhurst College.\n\nFans can&nbsp\;see the game online&nbsp\;and view&nbsp\;live stats.\n\nUpcoming home games\n\nFeb. 17 vs. North Park\n
URL;VALUE=URI:https://www.augustana.edu/about-us/events/2017/womens-basketball-vs-elmhurst
SUMMARY:Women's basketball vs. Elmhurst
DTSTART:20180208T010000Z
END:VEVENT
END:VCALENDAR
