BEGIN:VCALENDAR
VERSION:2.0
PRODID:-//hacksw/handcal//NONSGML v1.0//EN
CALSCALE:GREGORIAN
BEGIN:VEVENT
DTEND:20171119T010000Z
UID: 69e8e2c1a1bcc
DTSTAMP:20260422T100121Z
LOCATION:Carver P.E. Center
DESCRIPTION:The&nbsp\;Augustana Vikings&nbsp\;will take on Coe College.\n\nFans can&nbsp\;see the game online&nbsp\;and view&nbsp\;live stats.\n\nUpcoming home games\n\nNov. 21&nbsp\;vs. Benedictine\nNov. 25 vs. Webster\nDec. 13 vs. Dubuque\nDec. 30 vs. Central of Iowa\nJan. 3 vs. Illinois Wesleyan\nJan. 6 vs. Millikin\nJan. 13 vs. Carroll\nJan. 17 vs. North Central\nJan. 24 vs. Wheaton\nJan. 27 vs. Carthage\nFeb. 7 vs. Elmhurst\nFeb. 17 vs. North Park\n
URL;VALUE=URI:https://www.augustana.edu/about-us/events/2017/womens-basketball-vs-coe
SUMMARY:Women's basketball vs. Coe
DTSTART:20171119T010000Z
END:VEVENT
END:VCALENDAR
