BEGIN:VCALENDAR
VERSION:2.0
PRODID:-//hacksw/handcal//NONSGML v1.0//EN
CALSCALE:GREGORIAN
BEGIN:VEVENT
DTEND:20180128T010000Z
UID: 69e8dea616f49
DTSTAMP:20260422T094350Z
LOCATION:Carver P.E. Center
DESCRIPTION:The&nbsp\;Augustana Vikings&nbsp\;will take on Carthage College.\n\nFans can&nbsp\;see the game online&nbsp\;and view&nbsp\;live stats.\n\nUpcoming home games\n\nJan. 31 vs. Illinois Wesleyan\, 7 p.m.\nFeb. 17 vs. North Park\, 7 p.m.\nFeb. 20 vs. Elmhurst\, 7 p.m.\n
URL;VALUE=URI:https://www.augustana.edu/about-us/events/2017/mens-basketball-vs-carthage
SUMMARY:Men's Basketball vs. Carthage
DTSTART:20180128T010000Z
END:VEVENT
END:VCALENDAR
