BEGIN:VCALENDAR
VERSION:2.0
PRODID:-//hacksw/handcal//NONSGML v1.0//EN
CALSCALE:GREGORIAN
BEGIN:VEVENT
DTEND:20171207T010000Z
UID: 69e8e19b43182
DTSTAMP:20260422T095627Z
LOCATION:Carver P.E. Center
DESCRIPTION:The Augustana Vikings will take on the North Central Cardinals.\n\nFans can see the game online and view live stats.\n\nPhi Omega Phi and Student United Way will conduct a toy drive at the game men's home basketball game Dec. 6 at 7 p.m. This is part of a service project to&nbsp\;buy gifts for the patients at the Childrens' Hospital of Illinois in Peoria.\n\nThe group is seeking gifts of money\, new&nbsp\;toys\, pajamas and arts-and-crafts supplies. The hospital's wish list also includes baby and toddler items.\n\nThose who would like to donate but&nbsp\;be at the game can drop it their donations in the Office of Student Life in the Gerber Center\, or contact Nicholas Marino\, 815-258-5465.&nbsp\;&nbsp\;\n\nUpcoming home games\n\nDec. 13 vs. Rockford\, 7 p.m.\nJan. 6 vs. Millikin\, 7 p.m.\nJan. 10 vs. Wheaton\, 7 p.m.\nJan. 13 vs. Carroll\, 7 p.m.\nJan. 27 vs. Carthage\, 7 p.m.\nJan. 31 vs. Illinois Wesleyan\, 7 p.m.\nFeb. 17 vs. North Park\, 7 p.m.\nFeb. 20 vs. Elmhurst\, 7 p.m.\n
URL;VALUE=URI:https://www.augustana.edu/about-us/events/2017/mens-basketball-vs-north-central-college
SUMMARY:Men's basketball vs. North Central College
DTSTART:20171207T010000Z
END:VEVENT
END:VCALENDAR
