BEGIN:VCALENDAR
VERSION:2.0
PRODID:-//hacksw/handcal//NONSGML v1.0//EN
CALSCALE:GREGORIAN
BEGIN:VEVENT
DTEND:20171119T010000Z
UID: 69e8e2a82ec5d
DTSTAMP:20260422T100056Z
LOCATION:Carver P.E. Center
DESCRIPTION:The Augustana Vikings will take on the Scots of Alma College.\n\nFans can&nbsp\;see the game online&nbsp\;and view&nbsp\;live stats.\n\nUpcoming home games\n\nNov. 26 vs. MacMurray\, 3 p.m.\nDec. 6 vs. North Central\, 7 p.m.\nDec. 13 vs. Rockford\, 7 p.m.\nJan. 6 vs. Millikin\, 7 p.m.\nJan. 10 vs. Wheaton\, 7 p.m.\nJan. 13 vs. Carroll\, 7 p.m.\nJan. 27 vs. Carthage\, 7 p.m.\nJan. 31 vs. Illinois Wesleyan\, 7 p.m.\nFeb. 17 vs. North Park\, 7 p.m.\nFeb. 20 vs. Elmhurst\, 7 p.m.\n
URL;VALUE=URI:https://www.augustana.edu/about-us/events/2017/mens-basketball-vs-alma-college
SUMMARY:Men's basketball vs. Alma College
DTSTART:20171119T010000Z
END:VEVENT
END:VCALENDAR
