BEGIN:VCALENDAR
VERSION:2.0
PRODID:-//hacksw/handcal//NONSGML v1.0//EN
CALSCALE:GREGORIAN
BEGIN:VEVENT
DTEND:20171019T010000Z
UID: 69e8e2c7bae78
DTSTAMP:20260422T100127Z
LOCATION:Centennial Hall
DESCRIPTION:Stand-up&nbsp\;comic Bert Kreischer\, who claims he drank with the Russian mafia and fought a bear\, will perform.\n\nHis stand-up special\, "Bert Kreischer: The Machine\," is on Showtime.\n\nHe is the host of the Travel Channel's "Trip Flip" and "Bert the Conqueror\," and previously hosted "Hurt Bert." He is a regular guest on "The Joe Rogan Experience" and "The Rachael Ray Show\," and has appeared on "Late Night with David Letterman" and "Jimmy Kimmel Live."\n\nHis one-hour special\, "Comfortable Dumb\," appeared on Comedy Central and his book\, "Life of a Party\, Stories of a Perpetual Man-Child\," shares the&nbsp\; stories that define his comedy.\n
URL;VALUE=URI:https://www.augustana.edu/about-us/events/2017/bert-machine-kreischer
SUMMARY:Bert 'The Machine' Kreischer
DTSTART:20171019T010000Z
END:VEVENT
END:VCALENDAR
