BEGIN:VCALENDAR
VERSION:2.0
PRODID:-//hacksw/handcal//NONSGML v1.0//EN
CALSCALE:GREGORIAN
BEGIN:VEVENT
DTEND:20171029T003000Z
UID: 69e8ef702daec
DTSTAMP:20260422T105528Z
LOCATION:John Deere Planetarium and Carl Gamble Observatory
DESCRIPTION:Augustana College's John Deere Planetarium will be open to the public on Saturday night\, October 28\, 2017 for the annual Fall Open House. The planetarium\, located at 820 38th Street\, will be open from 7:30 p.m. until 9:00 p.m.\, with indoor and outdoor programs led by planetarium director Dr. Lee Carkner. Admission is free.\n\nThe evening’s events will include a planetarium show where the wonders of the night sky will be presented on the facility’s 30-foot dome with the Spitz A3P projector. Views of astronomical objects\, including the planet Saturn and the first quarter Moon will be provided via the telescopes of the Carl Gamble Observatory. In addition\, the Getz-Rogers Gallery\, where images of celestial objects and a quarter-ton piece of the Canyon Diablo meteor are on display\, will also be open to the public.&nbsp\;\n\nThe Fryxell Geology Museum\, which features one of the best collections of minerals and fossils in the Midwest\, will also be open to the public. Highlights in the museum include a wall of glowing\, fluorescent rocks\, a cast of a Tyrannosaurus rex skull\, and a complete 22-foot long skeleton of Cryolophosaurus\, a large crested carnivorous dinosaur discovered in Antarctica.\n\nThe observing areas are unheated so dress appropriate to the weather. In the event of cloudy sky conditions\, telescope views may not be possible but the indoor programs will still be offered.\n\nFor more information contact Dr. Lee Carkner at 309-794-7318 or visit the Planetarium website at http://helios.augustana.edu/astronomy.\n
URL;VALUE=URI:https://www.augustana.edu/about-us/events/2017/john-deere-planetarium-and-fryxell-geology-museum-fall-open-house
SUMMARY:John Deere Planetarium and Fryxell Geology Museum Fall Open House
DTSTART:20171029T003000Z
END:VEVENT
END:VCALENDAR
