BEGIN:VCALENDAR
VERSION:2.0
PRODID:-//hacksw/handcal//NONSGML v1.0//EN
CALSCALE:GREGORIAN
BEGIN:VEVENT
DTEND:20171210T200000Z
UID: 69e8eee9cba4a
DTSTAMP:20260422T105313Z
LOCATION:
DESCRIPTION:Pianist and associate professor of music Rob Elfline will present the second in a series of “pseudoconcerts."\n\nWinter’s Pseudoconcert #2 will engage concertgoers with the music of childhood — some pieces about childhood\, others for child performers.\n\nBut what may be most interesting is the audience’s behavior during the performances. Dr. Elfline explains in this video.\n\nIn the spring\, Pseudoconcert #3 will be devoted to nocturnes\, music written for a nighttime setting. Dr. Elfline comments that it will be “interesting to see how different composers conceive of what nighttime music sounds like.”\n
URL;VALUE=URI:https://www.augustana.edu/about-us/events/2017/pseudoconcert-2-robert-elfline-piano
SUMMARY:Pseudoconcert #2: Robert Elfline\, piano
DTSTART:20171210T200000Z
END:VEVENT
END:VCALENDAR
