BEGIN:VCALENDAR
VERSION:2.0
PRODID:-//hacksw/handcal//NONSGML v1.0//EN
CALSCALE:GREGORIAN
BEGIN:VEVENT
DTEND:20171028T180000Z
UID: 69e8ef8e92fe9
DTSTAMP:20260422T105558Z
LOCATION:Carver P.E. Center
DESCRIPTION:The Augustana women's volleyball team will compete in the Pumpkin Bash Tournament&nbsp\;Friday and Saturday.\n\nWatch live.\n\nThe team will sponsor a weekend-long fundraiser for the Juvenile Diabetes Research Foundation. The fundraiser will consist of T-shirt sales\, a bake sale and general donations.\n\nThe Pumpkin Bash will get underway on Friday with a 4&nbsp\;p.m. match between Augustana and Simpson. Following that match\, Simpson will face Illinois College at 6&nbsp\;p.m. and Augustana will play Illinois College at 8&nbsp\;p.m.\n\nAction resumes on Saturday with Illinois College facing Wartburg at 11&nbsp\;a.m. and the Vikings taking on Wartburg at 1&nbsp\;p.m.\n\nAt the 4&nbsp\;p.m. match on Friday\, the honorary captain will be Grace Gustafson\, a local junior high school student who has been at several Augustana volleyball camps and clinics. Gustafson currently serves as children’s congress delegate for J.D.R.F.\n\nThe Vikings also will have an honorary captain in the 8&nbsp\;p.m. match in the person of junior Emily Uglem. Gustafson and Uglem were picked as captains because both are victims of Juvenile Diabetes.\n\nSaturday is Senior Day\, and the Vikings will honor seniors Emily Westermeyer\, Claire Martin\, Maissie Musick\, Kaycee Kallenberger&nbsp\;and Peyton Achs&nbsp\;at the 1&nbsp\;p.m. match.\n
URL;VALUE=URI:https://www.augustana.edu/about-us/events/2017/womens-volleyball-vs-wartburg-college-pumpkin-bash-tournament
SUMMARY:Women's volleyball vs. Wartburg College - Pumpkin Bash Tournament
DTSTART:20171028T180000Z
END:VEVENT
END:VCALENDAR
