BEGIN:VCALENDAR
VERSION:2.0
PRODID:-//hacksw/handcal//NONSGML v1.0//EN
CALSCALE:GREGORIAN
BEGIN:VEVENT
DTEND:20171025T000000Z
UID: 69e8ef17b6ee9
DTSTAMP:20260422T105359Z
LOCATION:Carver P.E. Center
DESCRIPTION:The Augustana women's volleyball team will play Wheaton College&nbsp\;at home.\n\nWatch live.\n
URL;VALUE=URI:https://www.augustana.edu/about-us/events/2017/womens-volleyball-vs-wheaton-college
SUMMARY:Women's Volleyball vs. Wheaton College
DTSTART:20171025T000000Z
END:VEVENT
END:VCALENDAR
