BEGIN:VCALENDAR
VERSION:2.0
PRODID:-//hacksw/handcal//NONSGML v1.0//EN
CALSCALE:GREGORIAN
BEGIN:VEVENT
DTEND:20171006T000000Z
UID: 69e8ef17add78
DTSTAMP:20260422T105359Z
LOCATION:Carver P.E. Center
DESCRIPTION:The Augustana women's volleyball team will play the University of Wisconsin-Whitewater&nbsp\;at home.\n\nWatch live.\n
URL;VALUE=URI:https://www.augustana.edu/about-us/events/2017/womens-volleyball-vs-uw-whitewater
SUMMARY:Women's Volleyball vs. UW-Whitewater
DTSTART:20171006T000000Z
END:VEVENT
END:VCALENDAR
