BEGIN:VCALENDAR
VERSION:2.0
PRODID:-//hacksw/handcal//NONSGML v1.0//EN
CALSCALE:GREGORIAN
BEGIN:VEVENT
DTEND:20171004T000000Z
UID: 69e8ef8e61cfd
DTSTAMP:20260422T105558Z
LOCATION:Carver P.E. Center
DESCRIPTION:The Augustana women's volleyball team will play Elmhurst College at home.\n\nWatch live.\n
URL;VALUE=URI:https://www.augustana.edu/about-us/events/2017/womens-volleyball-vs-elmhurst-college
SUMMARY:Women's Volleyball vs. Elmhurst College
DTSTART:20171004T000000Z
END:VEVENT
END:VCALENDAR
