BEGIN:VCALENDAR
VERSION:2.0
PRODID:-//hacksw/handcal//NONSGML v1.0//EN
CALSCALE:GREGORIAN
BEGIN:VEVENT
DTEND:20171111T163000Z
UID: 69e8eee95bcf9
DTSTAMP:20260422T105313Z
LOCATION:Big River Bowling
DESCRIPTION:Augustana's new women's bowling team will participate in its first tournament in the Quad-Cities\, the Leatherneck Classic.\n\nPresented by the Quad Cities Sports Commission\, the 17th annual tournament runs Nov. 11-12. Women's teams play at Big River Bowl in Davenport\, and men are at Highland Park Bowl in Moline.\n\nThe Vikings will play at 10:30 a.m. Saturday and 8:30 a.m. Sunday.\n\nThe tournament is sanctioned by the United States Bowling Congress.\n
URL;VALUE=URI:https://www.augustana.edu/about-us/events/2017/womens-bowling-leatherneck-classic
SUMMARY:Women's bowling: Leatherneck Classic
DTSTART:20171111T163000Z
END:VEVENT
END:VCALENDAR
