BEGIN:VCALENDAR
VERSION:2.0
PRODID:-//hacksw/handcal//NONSGML v1.0//EN
CALSCALE:GREGORIAN
BEGIN:VEVENT
DTEND:20170915T220000Z
UID: 69e8eee93893d
DTSTAMP:20260422T105313Z
LOCATION:Carver P.E. Center
DESCRIPTION:The Augustana women's volleyball squad will play Central College of Pella\, Iowa\, in their first home match of the season. Watch live.\n\nThe team will take on Dominican University of River Forest\, Ill.\, at 7 p.m.\n\n&nbsp\;\n
URL;VALUE=URI:https://www.augustana.edu/about-us/events/2017/womens-volleyball-vs-central-college
SUMMARY:Women's volleyball vs. Central College
DTSTART:20170915T220000Z
END:VEVENT
END:VCALENDAR
