BEGIN:VCALENDAR
VERSION:2.0
PRODID:-//hacksw/handcal//NONSGML v1.0//EN
CALSCALE:GREGORIAN
BEGIN:VEVENT
DTEND:20171007T210000Z
UID: 69e8ef8f216ea
DTSTAMP:20260422T105559Z
LOCATION:Centennial Hall
DESCRIPTION:This concert features the Augustana Concert Chorale\, Jenny Lind Vocal Ensemble&nbsp\;and the Augustana Choir.\n
URL;VALUE=URI:https://www.augustana.edu/about-us/events/2017/fall-choral-concert
SUMMARY:Fall Choral Concert
DTSTART:20171007T210000Z
END:VEVENT
END:VCALENDAR
