BEGIN:VCALENDAR
VERSION:2.0
PRODID:-//hacksw/handcal//NONSGML v1.0//EN
CALSCALE:GREGORIAN
BEGIN:VEVENT
DTEND:20170917T010000Z
UID: 69e916113acec
DTSTAMP:20260422T134017Z
LOCATION:The Gerber Center for Student Life
DESCRIPTION:MPB Comedy Club: will host Jesus Trejo and Erik Rivera.\n\nLos Angeles-based Trejo has appeared on Comedy Central\, Nuvo TV and the TBS sitcom “Sullivan and Son\,” as well as "Uproarious" on Fuse.\n\nRivera is a regular at New York and LA comedy clubs such as The Comedy Cellar\, Comic Strip Live\, Gotham Comedy Club\, The Laugh Factory and The Comedy & Magic Club.
URL;VALUE=URI:https://www.augustana.edu/about-us/events/2017/mpb-comedy-club-jesus-trejo-and-erik-rivera
SUMMARY:MPB Comedy Club: Jesus Trejo and Erik Rivera
DTSTART:20170917T010000Z
END:VEVENT
END:VCALENDAR
