BEGIN:VCALENDAR
VERSION:2.0
PRODID:-//hacksw/handcal//NONSGML v1.0//EN
CALSCALE:GREGORIAN
BEGIN:VEVENT
DTEND:20171114T200000Z
UID: 69e8ef69a5fa0
DTSTAMP:20260422T105521Z
LOCATION:Rock Island Public Library
DESCRIPTION:Dr. Hyeong-Gyu Choi\, assistant professor of business administration will present his lecture\, "The Reformation of Privacy."&nbsp\;His is the third talk in the annual Frieze Lectures series. This year's lecture series will examine the Reformation\, as it is the 500th anniversary of the Reformation.\n
URL;VALUE=URI:https://www.augustana.edu/about-us/events/2017/frieze-lecture-dr-hyeong-gyu-choithe-reformation-privacy
SUMMARY:Frieze Lecture: Dr. Hyeong-Gyu Choi\,"The Reformation of Privacy"
DTSTART:20171114T200000Z
END:VEVENT
END:VCALENDAR
