BEGIN:VCALENDAR
VERSION:2.0
PRODID:-//hacksw/handcal//NONSGML v1.0//EN
CALSCALE:GREGORIAN
BEGIN:VEVENT
DTEND:20180427T141500Z
UID: 69e8ef6995a64
DTSTAMP:20260422T105521Z
LOCATION:
DESCRIPTION:Transfer Fridays are events designed especially for you. To better accommodate your needs as a transfer student\, we offer opportunities for you to talk with everyone\, from admissions and financial assistance counselors to academic advisors and faculty.\n\nWe'll be able to answer questions such as:\n\n\n	Will my credits transfer?\n	How many credits do I need before I can transfer to Augustana?\n	How many students transfer to Augustana each year?\n	Are scholarships available for transfer students?\n	If I transfer\, can I still do an internship\, research with a professor\, or study and travel overseas?\n	If I transfer\, will I still graduate on time?\n	If I transfer\, will I get the full Augustana experience?\n\n\nFor answers to these questions and more\, come to one of Augustana's Transfer Fridays. Sessions are scheduled in the morning\, and can include a campus tour.\n\nFor more information&nbsp\;visit the website.\n
URL;VALUE=URI:https://www.augustana.edu/about-us/events/2017/transfer-friday-3
SUMMARY:Transfer Friday
DTSTART:20180427T141500Z
END:VEVENT
END:VCALENDAR
