BEGIN:VCALENDAR
VERSION:2.0
PRODID:-//hacksw/handcal//NONSGML v1.0//EN
CALSCALE:GREGORIAN
BEGIN:VEVENT
DTEND:20180421T140000Z
UID: 69e8ec33834af
DTSTAMP:20260422T104139Z
LOCATION:
DESCRIPTION:It Begins with "A"&nbsp\;is a day of activities to connect with students who have chosen Augustana\, and those still deciding.\n\nEvent highlights\n\n\n	Reaffirm&nbsp\;that Augustana is a great choice for you.&nbsp\;\n	Hear from alumni&nbsp\;about how Augustana made a difference in their careers.\n	Interact with your future classmates&nbsp\;and current Augustana students.&nbsp\;\n	Participate in an Augie tradition.&nbsp\;If you know you will join the Augustana Class of 2022\, you can celebrate by ringing the gong.\n\n\n• See more information and register.\n
URL;VALUE=URI:https://www.augustana.edu/about-us/events/2017/it-begins
SUMMARY:It Begins with 'A'
DTSTART:20180421T140000Z
END:VEVENT
END:VCALENDAR
