BEGIN:VCALENDAR
VERSION:2.0
PRODID:-//hacksw/handcal//NONSGML v1.0//EN
CALSCALE:GREGORIAN
BEGIN:VEVENT
DTEND:20171011T210000Z
UID: 69e8f49a12a89
DTSTAMP:20260422T111730Z
LOCATION:Carlsson Evald Hall
DESCRIPTION:Dr. Hyeong-Gyu Choi\,&nbsp\;assistant professor of business administration\, will discuss&nbsp\;"The Influences of Unconscious Biases in Media" as part of the Tea Talks series.\n\nHe will focus specifically on the role of movie and TV media in the context of gender biases and discusses the influences of such biases on viewers.&nbsp\;\n\nDescription: "Unconscious bias (UB) is a bias that we are unaware of and occurs outside of our control. UB can be a seemingly harmless cognitive short-cut and one of the most effective assimilation strategies that often help individuals with the same cultural background to process information efficiently and relieve workload from our overworked brains.\n\n"Nevertheless\, the effortless and automatic bias infects even the well-intentioned and it functions as a mechanism that passes gender related biases on to later generations\, especially when it is embedded into multimedia and audience is exposed to it over a prolonged period of time."\n
URL;VALUE=URI:https://www.augustana.edu/about-us/events/2017/tea-talk-influences-unconscious-biases-media
SUMMARY:Tea Talk: "The Influences of Unconscious Biases in Media"
DTSTART:20171011T210000Z
END:VEVENT
END:VCALENDAR
