BEGIN:VCALENDAR
VERSION:2.0
PRODID:-//hacksw/handcal//NONSGML v1.0//EN
CALSCALE:GREGORIAN
BEGIN:VEVENT
DTEND:20170913T210000Z
UID: 69e8f441c0b99
DTSTAMP:20260422T111601Z
LOCATION:Carlsson Evald Hall
DESCRIPTION:Dr. Theresa Williamson will speak on "Exploring Gender and Family from a Perspective of Class in Rio de Janeiro" in the first Tea Talk of the year.\n\nShe will talk about Rio de Janeiro's favela communities\, the origins and implications of unfounded stigma on their effective development\, and their potential as sustainable models in a rapidly urbanizing world.\n\nShe is an urban planner and executive director at&nbsp\;Catalytic Communities&nbsp\;in Brazil.\n\n&nbsp\;\n
URL;VALUE=URI:https://www.augustana.edu/about-us/events/2017/tea-talk-exploring-gender-family-perspective-class-rio-de-janeiro
SUMMARY:Tea Talk: "Exploring Gender & Family from a Perspective of Class in Rio de Janeiro"
DTSTART:20170913T210000Z
END:VEVENT
END:VCALENDAR
