BEGIN:VCALENDAR
VERSION:2.0
PRODID:-//hacksw/handcal//NONSGML v1.0//EN
CALSCALE:GREGORIAN
BEGIN:VEVENT
DTEND:20170906T020000Z
UID: 69e7d17e7ecc5
DTSTAMP:20260421T143526Z
LOCATION:Westerlin Residence Center
DESCRIPTION:The Martial Arts Club will be having their second open practice of the year. Those interested in boxing\, MMA\, judo\, taekwondo\, or any other martial arts or interested in learning self-defense are encouraged to attend.&nbsp\;\n
URL;VALUE=URI:https://www.augustana.edu/about-us/events/2017/martial-arts-club-open-practice
SUMMARY:Martial Arts Club Open Practice
DTSTART:20170906T020000Z
END:VEVENT
END:VCALENDAR
