BEGIN:VCALENDAR
VERSION:2.0
PRODID:-//hacksw/handcal//NONSGML v1.0//EN
CALSCALE:GREGORIAN
BEGIN:VEVENT
DTEND:20170909T140000Z
UID: 69e77c7c7f8ef
DTSTAMP:20260421T083244Z
LOCATION:Loud Thunder Forest Preserve
DESCRIPTION:Campus Ministries will be hosting a free Mini-Retreat at Loud Thunder Forest Preserve\, where there will be canoeing\, games\, a picnic lunch\, and an opportunity to meet new people.&nbsp\;\n\nThe group will be leaving campus at 9 a.m. and returning to campus by 4 p.m.\n\nSign up below to reserve your spot.&nbsp\;\n
URL;VALUE=URI:https://www.augustana.edu/about-us/events/2017/campus-ministries-mini-retreat-0
SUMMARY:Campus Ministries Mini-Retreat
DTSTART:20170909T140000Z
END:VEVENT
END:VCALENDAR
