BEGIN:VCALENDAR
VERSION:2.0
PRODID:-//hacksw/handcal//NONSGML v1.0//EN
CALSCALE:GREGORIAN
BEGIN:VEVENT
DTEND:20171014T160000Z
UID: 69e755572573d
DTSTAMP:20260421T054543Z
LOCATION:Arsenal Island Golf Course & Clubhouse
DESCRIPTION:The Augustana men's golf team will host the Viking Fall Shootout at the Rock Island Arsenal Golf Course beginning at 11:00am.&nbsp\;\n
URL;VALUE=URI:https://www.augustana.edu/about-us/events/2017/mens-golf-viking-fall-shootout
SUMMARY:Men's Golf Viking Fall Shootout
DTSTART:20171014T160000Z
END:VEVENT
END:VCALENDAR
