BEGIN:VCALENDAR
VERSION:2.0
PRODID:-//hacksw/handcal//NONSGML v1.0//EN
CALSCALE:GREGORIAN
BEGIN:VEVENT
DTEND:20170930T140000Z
UID: 69e8f456cb2dd
DTSTAMP:20260422T111622Z
LOCATION:Hanson Hall of Science
DESCRIPTION:The&nbsp\;Swenson Swedish Immigration Research Centerat Augustana College will welcome the return of the renowned SwedGenTour. These professional genealogists from Sweden will give lectures on Swedish genealogy\, searching records\, inventories and more. The program runs through 4 p.m.\; see schedule.\n\nRegister online or mail a check (payable to "Swenson Center") to Swenson Center\, Augustana College\, 639 38th St\, Rock Island Ill.\, 61201-2296. There is an early bird price of $35 per person if postmarked on or before Aug. 31. The cost is $45 if postmarked Sept. 1 or after.\n
URL;VALUE=URI:https://www.augustana.edu/about-us/events/2017/swedgentour
SUMMARY:SwedGenTour
DTSTART:20170930T140000Z
END:VEVENT
END:VCALENDAR
