BEGIN:VCALENDAR
VERSION:2.0
PRODID:-//hacksw/handcal//NONSGML v1.0//EN
CALSCALE:GREGORIAN
BEGIN:VEVENT
DTEND:20170831T000000Z
UID: 69e742b7b8e0a
DTSTAMP:20260421T042615Z
LOCATION:Centennial Hall
DESCRIPTION:The roundtable is in conjunction with the exhibition "Organize Your Own\," an exhibition featuring work that responds to the history of multiracial coalitions organizing against racism\, poverty&nbsp\;and oppression.&nbsp\;\n\nThe roundtable will feature&nbsp\;members of the original Rainbow Coalition. Representatives from the Young Patriots\, Young Lords\, Rising up Angry\, and the Black Panthers will talk about the Rainbow Coalition and how it connects to the present.\n\nSee details and upcoming events here.\n
URL;VALUE=URI:https://www.augustana.edu/about-us/events/2017/organize-your-own-rainbow-coalition-round-table
SUMMARY:"Organize Your Own" - Rainbow Coalition Round Table
DTSTART:20170831T000000Z
END:VEVENT
END:VCALENDAR
