BEGIN:VCALENDAR
VERSION:2.0
PRODID:-//hacksw/handcal//NONSGML v1.0//EN
CALSCALE:GREGORIAN
BEGIN:VEVENT
DTEND:20170906T003000Z
UID: 69e9051d88849
DTSTAMP:20260422T122757Z
LOCATION:Denkmann Memorial Building
DESCRIPTION:Yun-Ting Lee and Younjung Cha will play some of the most beloved works of violin/piano duo literature by Schubert\, Kreisler and Brahms.&nbsp\;\n\nPianist Younjung Cha teaches at St Ambrose University and is a doctoral candidate at the University of Iowa.&nbsp\;\n\nViolinist Yun-Ting Lee is a member of the Cleveland Orchestra.&nbsp\;\n\nThe two met at the Cleveland Institute of Music and are joining forces for a series of concerts in the Midwest.\n\nMusic Department Page\n
URL;VALUE=URI:https://www.augustana.edu/about-us/events/2017/guest-recital-yun-ting-lee-violin-and-younjung-cha-piano
SUMMARY:Guest Recital: Yun-Ting Lee\, violin\, and Younjung Cha\, piano
DTSTART:20170906T003000Z
END:VEVENT
END:VCALENDAR
