BEGIN:VCALENDAR
VERSION:2.0
PRODID:-//hacksw/handcal//NONSGML v1.0//EN
CALSCALE:GREGORIAN
BEGIN:VEVENT
DTEND:20220925T010000Z
UID: 69e905760a6a4
DTSTAMP:20260422T122926Z
LOCATION:Centennial Hall
DESCRIPTION:Comedian Eric O'Shea\, known for "Songs for Commercials\,"&nbsp\;will perform. He as appeared on&nbsp\;ABC\, Disney\, VH1 and&nbsp\;NBC.\n\nIn 2021\, he received the Campus Legend Award\, honoring over 25 years of 70 college shows.\n
URL;VALUE=URI:https://www.augustana.edu/about-us/events/2022/comedian-eric-oshea
SUMMARY:Comedian Eric O'Shea
DTSTART:20220925T010000Z
END:VEVENT
END:VCALENDAR
